BEGIN:VCALENDAR
VERSION:2.0
PRODID:-//IEM Public School - ECPv6.2.2//NONSGML v1.0//EN
CALSCALE:GREGORIAN
METHOD:PUBLISH
X-ORIGINAL-URL:https://www.iempublicschool.com
X-WR-CALDESC:Events for IEM Public School
REFRESH-INTERVAL;VALUE=DURATION:PT1H
X-Robots-Tag:noindex
X-PUBLISHED-TTL:PT1H
BEGIN:VTIMEZONE
TZID:UTC
BEGIN:STANDARD
TZOFFSETFROM:+0000
TZOFFSETTO:+0000
TZNAME:UTC
DTSTART:20250101T000000
END:STANDARD
END:VTIMEZONE
BEGIN:VEVENT
DTSTART;TZID=UTC:20250801T080000
DTEND;TZID=UTC:20250801T170000
DTSTAMP:20260422T201244
CREATED:20250904T205259Z
LAST-MODIFIED:20250904T205259Z
UID:22304-1754035200-1754067600@www.iempublicschool.com
SUMMARY:schedule appointments with our Principal
DESCRIPTION:
URL:https://www.iempublicschool.com/event/schedule-appointments-with-our-principal/
ATTACH;FMTTYPE=image/jpeg:https://www.iempublicschool.com/wp-content/uploads/2025/09/schedule-appointments-with-our-Principal-1-8.jpg
END:VEVENT
BEGIN:VEVENT
DTSTART;TZID=UTC:20250802T080000
DTEND;TZID=UTC:20250803T170000
DTSTAMP:20260422T201244
CREATED:20250821T140556Z
LAST-MODIFIED:20250821T140556Z
UID:21476-1754121600-1754240400@www.iempublicschool.com
SUMMARY:Conclave of Nations 2025!
DESCRIPTION:
URL:https://www.iempublicschool.com/event/conclave-of-nations-2025/
END:VEVENT
BEGIN:VEVENT
DTSTART;TZID=UTC:20250803T080000
DTEND;TZID=UTC:20250803T170000
DTSTAMP:20260422T201244
CREATED:20250821T140749Z
LAST-MODIFIED:20250821T140749Z
UID:21482-1754208000-1754240400@www.iempublicschool.com
SUMMARY:Frindship Day
DESCRIPTION:
URL:https://www.iempublicschool.com/event/frindship-day/
END:VEVENT
BEGIN:VEVENT
DTSTART;TZID=UTC:20250804T080000
DTEND;TZID=UTC:20250804T170000
DTSTAMP:20260422T201244
CREATED:20250904T204426Z
LAST-MODIFIED:20250904T204426Z
UID:22282-1754294400-1754326800@www.iempublicschool.com
SUMMARY:Confirmation of Entries
DESCRIPTION:
URL:https://www.iempublicschool.com/event/confirmation-of-entries/
ATTACH;FMTTYPE=image/jpeg:https://www.iempublicschool.com/wp-content/uploads/2025/09/Confirmation-of-Entries-4th-aug.jpg
END:VEVENT
BEGIN:VEVENT
DTSTART;TZID=UTC:20250804T080000
DTEND;TZID=UTC:20250804T170000
DTSTAMP:20260422T201244
CREATED:20250904T204734Z
LAST-MODIFIED:20250904T205113Z
UID:22296-1754294400-1754326800@www.iempublicschool.com
SUMMARY:Health Check-Up Programme
DESCRIPTION:
URL:https://www.iempublicschool.com/event/health-check-up-programme/
ATTACH;FMTTYPE=image/jpeg:https://www.iempublicschool.com/wp-content/uploads/2025/09/Health-Check-Up-Programme-4th-Aug.jpg
END:VEVENT
BEGIN:VEVENT
DTSTART;TZID=UTC:20250805T080000
DTEND;TZID=UTC:20250805T170000
DTSTAMP:20260422T201244
CREATED:20250821T140507Z
LAST-MODIFIED:20250821T140507Z
UID:21473-1754380800-1754413200@www.iempublicschool.com
SUMMARY:CISCE Zonal Interschool Kabaddi Competition
DESCRIPTION:
URL:https://www.iempublicschool.com/event/cisce-zonal-interschool-kabaddi-competition/
END:VEVENT
BEGIN:VEVENT
DTSTART;TZID=UTC:20250807T080000
DTEND;TZID=UTC:20250807T170000
DTSTAMP:20260422T201244
CREATED:20250904T204523Z
LAST-MODIFIED:20250904T204523Z
UID:22286-1754553600-1754586000@www.iempublicschool.com
SUMMARY:Confirmation of Entries
DESCRIPTION:
URL:https://www.iempublicschool.com/event/confirmation-of-entries-2/
ATTACH;FMTTYPE=image/jpeg:https://www.iempublicschool.com/wp-content/uploads/2025/09/Confirmation-of-Entries-7-8-2.jpg
END:VEVENT
BEGIN:VEVENT
DTSTART;TZID=UTC:20250809T080000
DTEND;TZID=UTC:20250809T170000
DTSTAMP:20260422T201244
CREATED:20250821T140429Z
LAST-MODIFIED:20250821T140429Z
UID:21470-1754726400-1754758800@www.iempublicschool.com
SUMMARY:Raksha Bandhan Celebrations
DESCRIPTION:
URL:https://www.iempublicschool.com/event/raksha-bandhan-celebrations/
END:VEVENT
BEGIN:VEVENT
DTSTART;TZID=UTC:20250812T080000
DTEND;TZID=UTC:20250812T170000
DTSTAMP:20260422T201244
CREATED:20250821T140258Z
LAST-MODIFIED:20250821T140258Z
UID:21467-1754985600-1755018000@www.iempublicschool.com
SUMMARY:National Thinking Day
DESCRIPTION:
URL:https://www.iempublicschool.com/event/national-thinking-day/
END:VEVENT
BEGIN:VEVENT
DTSTART;TZID=UTC:20250815T080000
DTEND;TZID=UTC:20250815T170000
DTSTAMP:20260422T201244
CREATED:20250821T135820Z
LAST-MODIFIED:20250821T135820Z
UID:21464-1755244800-1755277200@www.iempublicschool.com
SUMMARY:Independence Day Celebrations
DESCRIPTION:
URL:https://www.iempublicschool.com/event/independence-day-celebrations/
END:VEVENT
BEGIN:VEVENT
DTSTART;TZID=UTC:20250815T080000
DTEND;TZID=UTC:20250815T170000
DTSTAMP:20260422T201244
CREATED:20250904T204338Z
LAST-MODIFIED:20250904T204338Z
UID:22278-1755244800-1755277200@www.iempublicschool.com
SUMMARY:79th Independence Day
DESCRIPTION:
URL:https://www.iempublicschool.com/event/79th-independence-day/
ATTACH;FMTTYPE=image/jpeg:https://www.iempublicschool.com/wp-content/uploads/2025/09/79th-Independence-Day15-8.jpg
END:VEVENT
BEGIN:VEVENT
DTSTART;TZID=UTC:20250823T110000
DTEND;TZID=UTC:20250823T170000
DTSTAMP:20260422T201244
CREATED:20250821T140838Z
LAST-MODIFIED:20250821T140838Z
UID:21485-1755946800-1755968400@www.iempublicschool.com
SUMMARY:Pre-School Fest 2025
DESCRIPTION:
URL:https://www.iempublicschool.com/event/pre-school-fest-2025/
END:VEVENT
END:VCALENDAR