BEGIN:VCALENDAR
VERSION:2.0
PRODID:-//IEM Public School - ECPv6.2.2//NONSGML v1.0//EN
CALSCALE:GREGORIAN
METHOD:PUBLISH
X-ORIGINAL-URL:https://www.iempublicschool.com
X-WR-CALDESC:Events for IEM Public School
REFRESH-INTERVAL;VALUE=DURATION:PT1H
X-Robots-Tag:noindex
X-PUBLISHED-TTL:PT1H
BEGIN:VTIMEZONE
TZID:UTC
BEGIN:STANDARD
TZOFFSETFROM:+0000
TZOFFSETTO:+0000
TZNAME:UTC
DTSTART:20250101T000000
END:STANDARD
END:VTIMEZONE
BEGIN:VEVENT
DTSTART;TZID=UTC:20250610T080000
DTEND;TZID=UTC:20250610T170000
DTSTAMP:20260422T234249
CREATED:20250821T144932Z
LAST-MODIFIED:20250821T144932Z
UID:21524-1749542400-1749574800@www.iempublicschool.com
SUMMARY:On-Campus Camping
DESCRIPTION:
URL:https://www.iempublicschool.com/event/on-campus-camping/
END:VEVENT
BEGIN:VEVENT
DTSTART;TZID=UTC:20250613T080000
DTEND;TZID=UTC:20250613T170000
DTSTAMP:20260422T234249
CREATED:20250904T095707Z
LAST-MODIFIED:20250904T095835Z
UID:22264-1749801600-1749834000@www.iempublicschool.com
SUMMARY:Reporting after summer vacation
DESCRIPTION:
URL:https://www.iempublicschool.com/event/reporting-after-summer-vacation/
ATTACH;FMTTYPE=image/jpeg:https://www.iempublicschool.com/wp-content/uploads/2025/09/reporting-after-summer-vacation-13-6.jpg
END:VEVENT
BEGIN:VEVENT
DTSTART;TZID=UTC:20250616T080000
DTEND;TZID=UTC:20250616T170000
DTSTAMP:20260422T234249
CREATED:20250821T144830Z
LAST-MODIFIED:20250821T144830Z
UID:21521-1750060800-1750093200@www.iempublicschool.com
SUMMARY:Back to School
DESCRIPTION:
URL:https://www.iempublicschool.com/event/back-to-school/
END:VEVENT
BEGIN:VEVENT
DTSTART;TZID=UTC:20250618T080000
DTEND;TZID=UTC:20250618T170000
DTSTAMP:20260422T234249
CREATED:20250904T095632Z
LAST-MODIFIED:20250904T095632Z
UID:22260-1750233600-1750266000@www.iempublicschool.com
SUMMARY:Participation in zee 24 ganta quiz
DESCRIPTION:
URL:https://www.iempublicschool.com/event/participation-in-zee-24-ganta-quiz/
ATTACH;FMTTYPE=image/jpeg:https://www.iempublicschool.com/wp-content/uploads/2025/09/participation-in-zee-24-ganta-quiz-18-6.jpg
END:VEVENT
BEGIN:VEVENT
DTSTART;TZID=UTC:20250621T080000
DTEND;TZID=UTC:20250621T170000
DTSTAMP:20260422T234249
CREATED:20250821T144741Z
LAST-MODIFIED:20250821T151009Z
UID:21518-1750492800-1750525200@www.iempublicschool.com
SUMMARY:International Yoga / World Music Day
DESCRIPTION:
URL:https://www.iempublicschool.com/event/international-yoga-world-music-day/
END:VEVENT
BEGIN:VEVENT
DTSTART;TZID=UTC:20250627T080000
DTEND;TZID=UTC:20250627T170000
DTSTAMP:20260422T234249
CREATED:20250821T144604Z
LAST-MODIFIED:20250821T144604Z
UID:21515-1751011200-1751043600@www.iempublicschool.com
SUMMARY:Rath Yatra
DESCRIPTION:
URL:https://www.iempublicschool.com/event/rath-yatra/
END:VEVENT
END:VCALENDAR